BEGIN:VCALENDAR
VERSION:2.0
PRODID:-//Te Tiratū Iwi Māori Partnership Board - ECPv6.15.20//NONSGML v1.0//EN
CALSCALE:GREGORIAN
METHOD:PUBLISH
X-WR-CALNAME:Te Tiratū Iwi Māori Partnership Board
X-ORIGINAL-URL:https://tetiratu.co.nz
X-WR-CALDESC:Events for Te Tiratū Iwi Māori Partnership Board
REFRESH-INTERVAL;VALUE=DURATION:PT1H
X-Robots-Tag:noindex
X-PUBLISHED-TTL:PT1H
BEGIN:VTIMEZONE
TZID:Pacific/Auckland
BEGIN:STANDARD
TZOFFSETFROM:+1300
TZOFFSETTO:+1200
TZNAME:NZST
DTSTART:20250405T140000
END:STANDARD
BEGIN:DAYLIGHT
TZOFFSETFROM:+1200
TZOFFSETTO:+1300
TZNAME:NZDT
DTSTART:20250927T140000
END:DAYLIGHT
BEGIN:STANDARD
TZOFFSETFROM:+1300
TZOFFSETTO:+1200
TZNAME:NZST
DTSTART:20260404T140000
END:STANDARD
BEGIN:DAYLIGHT
TZOFFSETFROM:+1200
TZOFFSETTO:+1300
TZNAME:NZDT
DTSTART:20260926T140000
END:DAYLIGHT
BEGIN:STANDARD
TZOFFSETFROM:+1300
TZOFFSETTO:+1200
TZNAME:NZST
DTSTART:20270403T140000
END:STANDARD
BEGIN:DAYLIGHT
TZOFFSETFROM:+1200
TZOFFSETTO:+1300
TZNAME:NZDT
DTSTART:20270925T140000
END:DAYLIGHT
END:VTIMEZONE
BEGIN:VEVENT
DTSTART;VALUE=DATE:20260323
DTEND;VALUE=DATE:20260324
DTSTAMP:20260421T202608
CREATED:20260309T001914Z
LAST-MODIFIED:20260309T002013Z
UID:2451-1774224000-1774310399@tetiratu.co.nz
SUMMARY:World Optometry Day
DESCRIPTION:Did you that World Optometry Day is all about the need for optometrists to work collaboratively within the health system to ensure accessible and equitable eye care? \nIn our rohe\, tamariki in Waikato can now access low-cost eye care and glasses at Taakiri Tuu Wellness & Dagnostic Centre in Kirikiriroa. \nThis initiative\, aims to detect vision issues early\, helping children see clearly\, engage fully in learning\, and thrive in their overall hauora.
URL:https://tetiratu.co.nz/event/world-optometry-day/
ATTACH;FMTTYPE=image/jpeg:https://tetiratu.co.nz/wp-content/uploads/2026/03/IMG_3063-scaled.jpeg
END:VEVENT
END:VCALENDAR